BEGIN:VCALENDAR
VERSION:2.0
PRODID:-//Gotlands Museum - ECPv6.15.11//NONSGML v1.0//EN
CALSCALE:GREGORIAN
METHOD:PUBLISH
X-WR-CALNAME:Gotlands Museum
X-ORIGINAL-URL:https://www.gotlandsmuseum.se
X-WR-CALDESC:Händelser för Gotlands Museum
REFRESH-INTERVAL;VALUE=DURATION:PT1H
X-Robots-Tag:noindex
X-PUBLISHED-TTL:PT1H
BEGIN:VTIMEZONE
TZID:Europe/Stockholm
BEGIN:DAYLIGHT
TZOFFSETFROM:+0100
TZOFFSETTO:+0200
TZNAME:CEST
DTSTART:20250330T010000
END:DAYLIGHT
BEGIN:STANDARD
TZOFFSETFROM:+0200
TZOFFSETTO:+0100
TZNAME:CET
DTSTART:20251026T010000
END:STANDARD
BEGIN:DAYLIGHT
TZOFFSETFROM:+0100
TZOFFSETTO:+0200
TZNAME:CEST
DTSTART:20260329T010000
END:DAYLIGHT
BEGIN:STANDARD
TZOFFSETFROM:+0200
TZOFFSETTO:+0100
TZNAME:CET
DTSTART:20261025T010000
END:STANDARD
BEGIN:DAYLIGHT
TZOFFSETFROM:+0100
TZOFFSETTO:+0200
TZNAME:CEST
DTSTART:20270328T010000
END:DAYLIGHT
BEGIN:STANDARD
TZOFFSETFROM:+0200
TZOFFSETTO:+0100
TZNAME:CET
DTSTART:20271031T010000
END:STANDARD
END:VTIMEZONE
BEGIN:VEVENT
DTSTART;TZID=Europe/Stockholm:20260622T110000
DTEND;TZID=Europe/Stockholm:20260622T170000
DTSTAMP:20260423T212234
CREATED:20250524T121231Z
LAST-MODIFIED:20260423T091949Z
UID:10000194-1782126000-1782147600@www.gotlandsmuseum.se
SUMMARY:Norrbys museigård öppnar för säsongen
DESCRIPTION:Äntligen! Den 22 juni öppnar Norrbys museigård i Väte för årets säsong.  \nNorrbys museigård speglar livet på den gotländska landsbygden under 1930–40-talet. Här finns en bevarad gårdsmiljö med sommarens höns\, lamm och grisar\, och Gotlands äldsta vattenkvarn\, fortfarande i bruk under maj månad när vattnet står högt i dammen. En markerad natur- och kulturstig bjuder in till upptäcktsfärder året om. \nUpptäck\, lek och lärFör barnen finns det mycket att göra. De kan klä ut sig i tidstypiska kläder\, byta namn\, prova på att byka tvätt\, karda ull\, titta på insekter och umgås med gårdens djur. \nTrädgårdskafé och gårdsbutikI Norrbys trädgårdskafé serveras matiga smörgåsar\, plättar\, gotländsk saffranspannkaka\, hembakat kaffebröd och glass. Det finns kaffe\, te\, hemgjord saft och läsk samt gluten- och laktosfria alternativ. \nFölj gärna Norrbys museigård på Instagram för senaste information. \nÖppettider sommaren 202622 juni – 9 augustiAlla dagar klockan 11–17 \nGuidade visningarDagligen Visningen tar cirka 45 minuter och ingår i entréavgiften. \nEntréVuxen: 95 kronorUnder 19 år: fri entréMuseimedlem: fri entré
URL:https://www.gotlandsmuseum.se/event/valkomna-till-norrbys-museigard/
CATEGORIES:Barnens museum,Visning
ATTACH;FMTTYPE=image/jpeg:https://www.gotlandsmuseum.se/wp-content/uploads/2025/05/norrbys-boningshus-01-wpv_1200x500_center_center.jpg
END:VEVENT
END:VCALENDAR