BEGIN:VCALENDAR
VERSION:2.0
PRODID:-//Gotlands Museum - ECPv6.15.11//NONSGML v1.0//EN
CALSCALE:GREGORIAN
METHOD:PUBLISH
X-ORIGINAL-URL:https://www.gotlandsmuseum.se
X-WR-CALDESC:Händelser för Gotlands Museum
REFRESH-INTERVAL;VALUE=DURATION:PT1H
X-Robots-Tag:noindex
X-PUBLISHED-TTL:PT1H
BEGIN:VTIMEZONE
TZID:Europe/Stockholm
BEGIN:DAYLIGHT
TZOFFSETFROM:+0100
TZOFFSETTO:+0200
TZNAME:CEST
DTSTART:20250330T010000
END:DAYLIGHT
BEGIN:STANDARD
TZOFFSETFROM:+0200
TZOFFSETTO:+0100
TZNAME:CET
DTSTART:20251026T010000
END:STANDARD
BEGIN:DAYLIGHT
TZOFFSETFROM:+0100
TZOFFSETTO:+0200
TZNAME:CEST
DTSTART:20260329T010000
END:DAYLIGHT
BEGIN:STANDARD
TZOFFSETFROM:+0200
TZOFFSETTO:+0100
TZNAME:CET
DTSTART:20261025T010000
END:STANDARD
BEGIN:DAYLIGHT
TZOFFSETFROM:+0100
TZOFFSETTO:+0200
TZNAME:CEST
DTSTART:20270328T010000
END:DAYLIGHT
BEGIN:STANDARD
TZOFFSETFROM:+0200
TZOFFSETTO:+0100
TZNAME:CET
DTSTART:20271031T010000
END:STANDARD
END:VTIMEZONE
BEGIN:VEVENT
DTSTART;TZID=Europe/Stockholm:20260223T100000
DTEND;TZID=Europe/Stockholm:20260301T160000
DTSTAMP:20260423T200923
CREATED:20251211T075153Z
LAST-MODIFIED:20260210T065540Z
UID:10000440-1771840800-1772380800@www.gotlandsmuseum.se
SUMMARY:Sportlov = museilov på Gotlands Museum
DESCRIPTION:Sportlov = museilov. På sportlovet kan man\, som lovets namn antyder\, sporta\, men man kan också träna hjärnan med lite ny kunskap. Under vecka nio är det museilov på Gotlands Museum\, och i år ligger fokus på vikingatiden. \nÖppettider: 23 februari – 1 mars\, kl. 10.00–16.00\n \n  På upptäcktsfärd i Midgård: dagligen 23–28 februari klockan 13.00\n Tors Fiskafänge\, dramatiserad saga. 24 och 26 februari klockan 11\n  Vikingamästerskap i drakflygning. onsdag 25 februari klockan 14\n En resa med tidskikaren\, onsdag 25 februari klockan 10.30. Biljettköp – se nedan. \nMålgrupp: För barn från fyra år och uppåt och medföljande vuxna.\nKostnad: Ingår i museientrén. Fritt inträde för barn och ungdomar upp till 19 år och museimedlemmar. (Lös medlemskap i kassan på museet eller via denna länk) \n \n  På upptäcktsfärd i Midgård – en värld bland ormar\, ekorrar och svärd\nTid: måndag till fredag (23–28 februari) klockan 13.00-13.45\nHäng med vår guide och lyssna på berättelser om människorna som levde på Gotland för tusen år sedan.\nPlats: I utställningen Midgård- vikingarnas tid\nKostnad: Ingår i museientrén. Fritt inträde för barn och ungdomar upp till 19 år och museimedlemmar.\nMålgrupp: För barn från fyra år och uppåt och medföljande vuxna.\nAnmälan: Ingen föranmälan. \n \n Dramatiserad saga: Tors fiskafänge\nTid: 24 och 26 februari klockan 11\nLyssna på en dramatiserad saga från vikingatiden. Har du hört historien om när guden Tor följer med jätten Hymer på fisketur? Det är knasigt värre!\nPlats: I utställningen Midgård- vikingarnas tid\nKostnad: Ingår i museientrén. Fritt inträde för barn och ungdomar upp till 19 år och museimedlemmar.\nMålgrupp: För barn från fyra år och uppåt och medföljande vuxna.\nAnmälan: Ingen föranmälan. \n \n  Vikingamästerskap i drakflygning\nTid: onsdag 25 februari klockan 14\nUnder museilovet har du möjlighet att låna en vikingadrake och tävla mot andra barn i drakflygning. Draken är en liten slangbell-drake som är lätt att skjuta iväg\, så även yngre barn kan vara med. Du får tre försök på dig att skjuta din drake så långt som möjligt. När alla har skjutit koras årets drakflygare.\nPlats: Bildstenshallen\, Fornsalen\, Gotlands Museum\nKostnad: Ingår i museientrén. Fritt inträde för barn och ungdomar upp till 19 år och museimedlemmar.\nMålgrupp: För barn från fyra år och uppåt och medföljande vuxna.\nAnmälan: Anmälan sker på plats på museet. \n \n En resa med tidskikaren\nMed årets julkalender som guide och tidsskikarens magi tar vi oss runt i Visby för att hitta inspelningsplatserna och avslöja historierna bakom dem.\nDatum: 25 februari\nTid: 10.30-12.00\nLänk till biljett \n  \n 
URL:https://www.gotlandsmuseum.se/event/sportlov-museilov-pa-gotlands-museum-2/
CATEGORIES:Barnens museum,Visning
ATTACH;FMTTYPE=image/jpeg:https://www.gotlandsmuseum.se/wp-content/uploads/2025/12/FB-inlagg_.jpg
END:VEVENT
BEGIN:VEVENT
DTSTART;TZID=Europe/Stockholm:20260305T143000
DTEND;TZID=Europe/Stockholm:20260305T160000
DTSTAMP:20260423T200923
CREATED:20251203T094842Z
LAST-MODIFIED:20251209T104133Z
UID:10000413-1772721000-1772726400@www.gotlandsmuseum.se
SUMMARY:After School Art – en kreativ mötesplats efter skolan
DESCRIPTION:Välkommen till After School Art. En kreativ mötesplats för dig som är ungdom! Här får du möjlighet att utforska olika konstnärliga tekniker: bygg skulpturer\, testa grafiska tekniker\, skapa streetart eller diskutera aktuella utställningar. \nDu kommer och går som du vill. Inga krav\, bara skaparglädje och gemenskap. Vi jobbar med olika material  och du behöver inte ha några förkunskaper. \nKostnad: Gratis – material ingår!Drop-in för skolungdomar (ingen föranmälan krävs). \nTorsdagar kl. 14.30–16.00 \nVårens datum:12/2\,  19/2\,  5/3\,  12/3\,  19/3\,  26/3\,  16/4\,  23/4\,  7/5\,  21/5 \n  \n 
URL:https://www.gotlandsmuseum.se/event/after-school-art-kreativ-motesplats-efter-skolan/2026-03-05/
CATEGORIES:Barnens museum
ATTACH;FMTTYPE=image/jpeg:https://www.gotlandsmuseum.se/wp-content/uploads/2025/12/After-school-art_01_webb.jpg
END:VEVENT
BEGIN:VEVENT
DTSTART;TZID=Europe/Stockholm:20260312T143000
DTEND;TZID=Europe/Stockholm:20260312T160000
DTSTAMP:20260423T200923
CREATED:20251203T094842Z
LAST-MODIFIED:20251209T104133Z
UID:10000414-1773325800-1773331200@www.gotlandsmuseum.se
SUMMARY:After School Art – en kreativ mötesplats efter skolan
DESCRIPTION:Välkommen till After School Art. En kreativ mötesplats för dig som är ungdom! Här får du möjlighet att utforska olika konstnärliga tekniker: bygg skulpturer\, testa grafiska tekniker\, skapa streetart eller diskutera aktuella utställningar. \nDu kommer och går som du vill. Inga krav\, bara skaparglädje och gemenskap. Vi jobbar med olika material  och du behöver inte ha några förkunskaper. \nKostnad: Gratis – material ingår!Drop-in för skolungdomar (ingen föranmälan krävs). \nTorsdagar kl. 14.30–16.00 \nVårens datum:12/2\,  19/2\,  5/3\,  12/3\,  19/3\,  26/3\,  16/4\,  23/4\,  7/5\,  21/5 \n  \n 
URL:https://www.gotlandsmuseum.se/event/after-school-art-kreativ-motesplats-efter-skolan/2026-03-12/
CATEGORIES:Barnens museum
ATTACH;FMTTYPE=image/jpeg:https://www.gotlandsmuseum.se/wp-content/uploads/2025/12/After-school-art_01_webb.jpg
END:VEVENT
BEGIN:VEVENT
DTSTART;TZID=Europe/Stockholm:20260319T143000
DTEND;TZID=Europe/Stockholm:20260319T160000
DTSTAMP:20260423T200923
CREATED:20251203T094842Z
LAST-MODIFIED:20251209T104133Z
UID:10000415-1773930600-1773936000@www.gotlandsmuseum.se
SUMMARY:After School Art – en kreativ mötesplats efter skolan
DESCRIPTION:Välkommen till After School Art. En kreativ mötesplats för dig som är ungdom! Här får du möjlighet att utforska olika konstnärliga tekniker: bygg skulpturer\, testa grafiska tekniker\, skapa streetart eller diskutera aktuella utställningar. \nDu kommer och går som du vill. Inga krav\, bara skaparglädje och gemenskap. Vi jobbar med olika material  och du behöver inte ha några förkunskaper. \nKostnad: Gratis – material ingår!Drop-in för skolungdomar (ingen föranmälan krävs). \nTorsdagar kl. 14.30–16.00 \nVårens datum:12/2\,  19/2\,  5/3\,  12/3\,  19/3\,  26/3\,  16/4\,  23/4\,  7/5\,  21/5 \n  \n 
URL:https://www.gotlandsmuseum.se/event/after-school-art-kreativ-motesplats-efter-skolan/2026-03-19/
CATEGORIES:Barnens museum
ATTACH;FMTTYPE=image/jpeg:https://www.gotlandsmuseum.se/wp-content/uploads/2025/12/After-school-art_01_webb.jpg
END:VEVENT
BEGIN:VEVENT
DTSTART;TZID=Europe/Stockholm:20260321T130000
DTEND;TZID=Europe/Stockholm:20260321T160000
DTSTAMP:20260423T200923
CREATED:20260309T062942Z
LAST-MODIFIED:20260309T062951Z
UID:10000465-1774098000-1774108800@www.gotlandsmuseum.se
SUMMARY:Helghäng med workshops & film i Bingan
DESCRIPTION:Helghäng i Bingan med workshops & film.\nLördagen den 21 mars kl. 13–16. \nVälkommen till en lördagseftermiddag med film\, skapande och gemenskap. Det blir premiärvisning av dokumentationsfilmen om medskapandeprojektet Bingan gemenskapar. Filmad av Alexis Zeiss på uppdrag av Gotlands Konstmuseum.\nDet blir också kreativa workshops där du får skapa egna klistermärken till din skateboard eller göra personliga pins till jackan eller väskan.\nAktiviteterna äger rum på två närliggande platser i Bingeby: \nMötesplats Bingan: filmvisning\, pin-workshop och fika\nAdress: Tjelvarvägen 15\, Visby.\nGotlands Skatehall\, Tjelvarvägen 8: sticker-workshop\, skejt och fika. Adress: Tjelvarvägen 8\, Visby. (Se bild) \nKom och häng\, bli inspirerad och skapa tillsammans!\nPå plats är konstnären Rossana Mercado-Rojas\, personal från Gotlands Konstmuseum\, Bingan IF och Gotlands Skateboardförening.\nFoto: Karl Melander
URL:https://www.gotlandsmuseum.se/event/helghang-med-workshops-film-i-bingan/
CATEGORIES:Barnens museum,Visning
ATTACH;FMTTYPE=image/jpeg:https://www.gotlandsmuseum.se/wp-content/uploads/2026/03/Binganmural33.jpg
END:VEVENT
BEGIN:VEVENT
DTSTART;TZID=Europe/Stockholm:20260326T143000
DTEND;TZID=Europe/Stockholm:20260326T160000
DTSTAMP:20260423T200923
CREATED:20251203T094842Z
LAST-MODIFIED:20251209T104133Z
UID:10000416-1774535400-1774540800@www.gotlandsmuseum.se
SUMMARY:After School Art – en kreativ mötesplats efter skolan
DESCRIPTION:Välkommen till After School Art. En kreativ mötesplats för dig som är ungdom! Här får du möjlighet att utforska olika konstnärliga tekniker: bygg skulpturer\, testa grafiska tekniker\, skapa streetart eller diskutera aktuella utställningar. \nDu kommer och går som du vill. Inga krav\, bara skaparglädje och gemenskap. Vi jobbar med olika material  och du behöver inte ha några förkunskaper. \nKostnad: Gratis – material ingår!Drop-in för skolungdomar (ingen föranmälan krävs). \nTorsdagar kl. 14.30–16.00 \nVårens datum:12/2\,  19/2\,  5/3\,  12/3\,  19/3\,  26/3\,  16/4\,  23/4\,  7/5\,  21/5 \n  \n 
URL:https://www.gotlandsmuseum.se/event/after-school-art-kreativ-motesplats-efter-skolan/2026-03-26/
CATEGORIES:Barnens museum
ATTACH;FMTTYPE=image/jpeg:https://www.gotlandsmuseum.se/wp-content/uploads/2025/12/After-school-art_01_webb.jpg
END:VEVENT
END:VCALENDAR