BEGIN:VCALENDAR
VERSION:2.0
PRODID:-//Gotlands Museum - ECPv6.15.11//NONSGML v1.0//EN
CALSCALE:GREGORIAN
METHOD:PUBLISH
X-ORIGINAL-URL:https://www.gotlandsmuseum.se
X-WR-CALDESC:Händelser för Gotlands Museum
REFRESH-INTERVAL;VALUE=DURATION:PT1H
X-Robots-Tag:noindex
X-PUBLISHED-TTL:PT1H
BEGIN:VTIMEZONE
TZID:Europe/Stockholm
BEGIN:DAYLIGHT
TZOFFSETFROM:+0100
TZOFFSETTO:+0200
TZNAME:CEST
DTSTART:20250330T010000
END:DAYLIGHT
BEGIN:STANDARD
TZOFFSETFROM:+0200
TZOFFSETTO:+0100
TZNAME:CET
DTSTART:20251026T010000
END:STANDARD
BEGIN:DAYLIGHT
TZOFFSETFROM:+0100
TZOFFSETTO:+0200
TZNAME:CEST
DTSTART:20260329T010000
END:DAYLIGHT
BEGIN:STANDARD
TZOFFSETFROM:+0200
TZOFFSETTO:+0100
TZNAME:CET
DTSTART:20261025T010000
END:STANDARD
BEGIN:DAYLIGHT
TZOFFSETFROM:+0100
TZOFFSETTO:+0200
TZNAME:CEST
DTSTART:20270328T010000
END:DAYLIGHT
BEGIN:STANDARD
TZOFFSETFROM:+0200
TZOFFSETTO:+0100
TZNAME:CET
DTSTART:20271031T010000
END:STANDARD
END:VTIMEZONE
BEGIN:VEVENT
DTSTART;TZID=Europe/Stockholm:20260124T110000
DTEND;TZID=Europe/Stockholm:20260124T123000
DTSTAMP:20260423T171210
CREATED:20251203T075245Z
LAST-MODIFIED:20260123T111935Z
UID:10000407-1769252400-1769257800@www.gotlandsmuseum.se
SUMMARY:Fullbokad! En resa med tidskikaren – (klä er varmt!)
DESCRIPTION:Obs! Stadsvandringen sker utomhus\, så glöm inte varma kläder och skor som tål promenad. \nMed årets julkalender som guide och tidsskikarens magi tar vi oss runt i Visby för att hitta inspelningsplatserna och avslöja historierna bakom dem.\nDatum: lördag 24 januari\nTid: 11-12.30\nPlats: Visby innerstad\, samling på Fornsalens gård.\nKostnad:\n185 kr för vuxna 95 kronor för barn. Rabatt för museimedlemmar. Rabattkod finns i nyhetsbrevet. \n Länk till biljett \n\nMålgrupp:\nBarnfamiljer. Från 4 år och uppåt. Man bör orka att promenera runt i 1\,5 h. \nTillgänglighet:\nVi rör oss genom Visbys gator och gränder. Under turen förekommer branta backar och ojämnt underlag\, vilket kan vara utmanande för personer med begränsad rörlighet. \nÄr du ännu inte museimedlem? Passa på att bli medlem! Du kan enkelt skaffa ditt medlemskap via länken nedan eller i museets reception. \n Att bli museimedlem är enkelt – läs om alla förmåner! \n  \n 
URL:https://www.gotlandsmuseum.se/event/6608/
CATEGORIES:Barnens museum,Vandring
ATTACH;FMTTYPE=image/jpeg:https://www.gotlandsmuseum.se/wp-content/uploads/2025/12/Tidskikare_webb.jpg
END:VEVENT
END:VCALENDAR