BEGIN:VCALENDAR
VERSION:2.0
PRODID:-//Gotlands Museum - ECPv6.15.11//NONSGML v1.0//EN
CALSCALE:GREGORIAN
METHOD:PUBLISH
X-WR-CALNAME:Gotlands Museum
X-ORIGINAL-URL:https://www.gotlandsmuseum.se
X-WR-CALDESC:Händelser för Gotlands Museum
REFRESH-INTERVAL;VALUE=DURATION:PT1H
X-Robots-Tag:noindex
X-PUBLISHED-TTL:PT1H
BEGIN:VTIMEZONE
TZID:Europe/Stockholm
BEGIN:DAYLIGHT
TZOFFSETFROM:+0100
TZOFFSETTO:+0200
TZNAME:CEST
DTSTART:20240331T010000
END:DAYLIGHT
BEGIN:STANDARD
TZOFFSETFROM:+0200
TZOFFSETTO:+0100
TZNAME:CET
DTSTART:20241027T010000
END:STANDARD
BEGIN:DAYLIGHT
TZOFFSETFROM:+0100
TZOFFSETTO:+0200
TZNAME:CEST
DTSTART:20250330T010000
END:DAYLIGHT
BEGIN:STANDARD
TZOFFSETFROM:+0200
TZOFFSETTO:+0100
TZNAME:CET
DTSTART:20251026T010000
END:STANDARD
BEGIN:DAYLIGHT
TZOFFSETFROM:+0100
TZOFFSETTO:+0200
TZNAME:CEST
DTSTART:20260329T010000
END:DAYLIGHT
BEGIN:STANDARD
TZOFFSETFROM:+0200
TZOFFSETTO:+0100
TZNAME:CET
DTSTART:20261025T010000
END:STANDARD
END:VTIMEZONE
BEGIN:VEVENT
DTSTART;VALUE=DATE:20251025
DTEND;VALUE=DATE:20251102
DTSTAMP:20260423T200432
CREATED:20250908T110531Z
LAST-MODIFIED:20251027T075327Z
UID:10000377-1761350400-1762041599@www.gotlandsmuseum.se
SUMMARY:Fullbokat! Höstlov 2025: Ficklampa på museet – för barn 5–10 år (och modiga vuxna!)
DESCRIPTION:När lamporna slocknar och museet stängt för dagen… börjar det viskas bland montrarna. Den gamla museichefen Per Arvid Säve dyker upp och visar runt bland föremål\, papper och historiska figurer som inte riktigt vill bli glömda.\nVågar du följa med honom och se vad som händer på museet efter stängning? Här gömmer sig inga spöken bakom hörn\, utan de vänliga spökena står redan och väntar i rummet. \nFör barn 5–10 år (och modiga vuxna!)Plats: Gotlands Museum / FornsalenTid: kl. 18.00 alla dagar \nFöreställningar: \n\n\nLördag 25 oktober \n\n\nSöndag 26 oktober \n\n\nOnsdag 29 oktober \n\n\nTorsdag 30 oktober \n\n\nFredag 31 oktober (Halloween!) \n\n\nLördag 1 november \n\n\n Länk till biljett.  \n Vill du gå en läskigare vandring? Då kanske den här passar bättre! \n  \n \n150 år av historia!I år är det exakt 150 år sedan Per Arvid Säve (1811–1887) grundade Föreningen Gotlands Fornvänner\, föreningen som lade grunden till Gotlands Museum. \n\n 
URL:https://www.gotlandsmuseum.se/event/hostlov-2025-ficklampa-pa-museet-for-barn-5-10-ar-och-modiga-vuxna/
CATEGORIES:Barnens museum,Vandring
ATTACH;FMTTYPE=image/jpeg:https://www.gotlandsmuseum.se/wp-content/uploads/2025/09/Ficklampa_webb_liten-scaled.jpg
END:VEVENT
BEGIN:VEVENT
DTSTART;VALUE=DATE:20251025
DTEND;VALUE=DATE:20251102
DTSTAMP:20260423T200432
CREATED:20250908T111504Z
LAST-MODIFIED:20251023T084931Z
UID:10000378-1761350400-1762041599@www.gotlandsmuseum.se
SUMMARY:Höstlov 2025: Fullbokat! Ficklampa på museet – för barn från 10 år och uppåt (och modiga vuxna!)
DESCRIPTION:När lamporna slocknar och museet stängt för dagen börjar det viskas bland montrarna. Den gamla museichefen Per Arvid Säve dyker upp och visar runt bland föremål\, papper och historiska figurer som inte riktigt vill bli glömda. Vågar du följa med honom och se vad som händer på museet efter stängning?\n \nDet här är ingen lugn vandring. Du vet inte när eller var nästa spöke hoppar fram.Men en sak är säker: du kommer att minnas det här besöket. \nFör barn från 10 år och uppåtGotlands Museum / FornsalenTid: kl. 19.30 alla kvällar \nFöreställningar: \n\n\nLördag 25 oktober \n\n\nSöndag 26 oktober \n\n\nOnsdag 29 oktober \n\n\nTorsdag 30 oktober \n\n\nFredag 31 oktober (👻 Halloween!) \n\n\nLördag 1 november \n\n\n Köp din biljett här. Begränsat antal platser\, vågar du boka?  \n Vill du gå en lite lugnare vandring? Den här  passar dig som vill ha en lite snällare spökupplevelse. \n  \n  \n \n150 år av historia!I år är det exakt 150 år sedan Per Arvid Säve (1811–1887) grundade Föreningen Gotlands Fornvänner\, föreningen som lade grunden till Gotlands Museum.
URL:https://www.gotlandsmuseum.se/event/hostlov-2025-ficklampa-pa-museet-for-barn-fran-10-ar-och-uppat/
CATEGORIES:Barnens museum,Vandring
ATTACH;FMTTYPE=image/jpeg:https://www.gotlandsmuseum.se/wp-content/uploads/2025/09/Ficklampa_webb_liten-scaled.jpg
END:VEVENT
BEGIN:VEVENT
DTSTART;TZID=Europe/Stockholm:20251106T143000
DTEND;TZID=Europe/Stockholm:20251106T160000
DTSTAMP:20260423T200432
CREATED:20250817T183138Z
LAST-MODIFIED:20251117T131846Z
UID:10000348-1762439400-1762444800@www.gotlandsmuseum.se
SUMMARY:After School Art – 20/11: green-screen-animation!
DESCRIPTION:Välkommen till After School Art. En kreativ mötesplats för dig som är ungdom! Här får du möjlighet att utforska olika konstnärliga tekniker: bygg skulpturer\, testa grafiska tekniker\, skapa streetart eller diskutera aktuella utställningar. \nDu kommer och går som du vill. Inga krav\, bara skaparglädje och gemenskap. Vi jobbar med olika material  och du behöver inte ha några förkunskaper. \nTorsdagar kl. 14.30–16.00Kostnad: Gratis – material ingår!Drop-in för skolungdomar (ingen föranmälan krävs). \nHöstens datum:2/10\, 9/10\, 16/10\, 23/106/11\, 20/11\, 27/11 \nTips! Den 20 november blir det green-screen-animation på After School Art tillsammans med konstnären Kristina Frank. \n  \n 
URL:https://www.gotlandsmuseum.se/event/after-school-art-skapa-fritt-efter-skolan/2025-11-06/
CATEGORIES:Barnens museum
ATTACH;FMTTYPE=image/jpeg:https://www.gotlandsmuseum.se/wp-content/uploads/2025/08/After-school-art-.jpg
END:VEVENT
BEGIN:VEVENT
DTSTART;TZID=Europe/Stockholm:20251109T130000
DTEND;TZID=Europe/Stockholm:20251109T150000
DTSTAMP:20260423T200432
CREATED:20250820T103551Z
LAST-MODIFIED:20251027T141754Z
UID:10000356-1762693200-1762700400@www.gotlandsmuseum.se
SUMMARY:Vernissage: Skogen med Ung Konst Gotland
DESCRIPTION:Vem eller vad vill du möta – eller inte möta – i en skog? Låt dig överraskas i utställningen Skogen som är skapad av barn och ungdomar på Gotland. \nVernissage: 9 november 2025\, kl. 13–15. \nI utställningen Skogen har ett tjugotal gotländska ungdomar\, de flesta omkring 15 år\, närmat sig denna fråga genom måleri\, skulptur\, animation och ljud. Resultatet är en färgstark och fantasifull värld där snälla hästar\, ugglor och fjärilar delar plats med vettar\, spindlar och slingrande ormar. \nUnder flera månader har deltagarna skapat sina egna tolkningar av skogen. En plats som både kan kännas trygg och hemlighetsfull\, vänlig och farlig\, verklig och magisk. \nHär möter du deras tankar och drömmar\, väsen och berättelser: en lekfull skog fylld av skaparglädje\, nyfikenhet och upptäckarlust. \nProjektet är ett samarbete mellan Gotlands Museum och Kulturskolan på Gotland. Utställningen visas till om med våren 2026. \nUtställningen visas till och med 1 mars 2026 \n 
URL:https://www.gotlandsmuseum.se/event/vernissage-skogen-med-ung-konst-gotland/
CATEGORIES:Barnens museum,Visning
ATTACH;FMTTYPE=image/jpeg:https://www.gotlandsmuseum.se/wp-content/uploads/2025/08/Skogen_webb.jpg
END:VEVENT
BEGIN:VEVENT
DTSTART;TZID=Europe/Stockholm:20251120T143000
DTEND;TZID=Europe/Stockholm:20251120T160000
DTSTAMP:20260423T200432
CREATED:20251118T132647Z
LAST-MODIFIED:20251118T132648Z
UID:10000350-1763649000-1763654400@www.gotlandsmuseum.se
SUMMARY:After School Art – 20/11: green-screen-animation!
DESCRIPTION:Välkommen till After School Art. En kreativ mötesplats för dig som är ungdom! Här får du möjlighet att utforska olika konstnärliga tekniker: bygg skulpturer\, testa grafiska tekniker\, skapa streetart eller diskutera aktuella utställningar. \nDu kommer och går som du vill. Inga krav\, bara skaparglädje och gemenskap. Vi jobbar med olika material  och du behöver inte ha några förkunskaper. \nTorsdagar kl. 14.30–16.00Kostnad: Gratis – material ingår!Drop-in för skolungdomar (ingen föranmälan krävs). \nHöstens datum:2/10\, 9/10\, 16/10\, 23/106/11\, 20/11\, 27/11 \nTips! Den 20 november blir det green-screen-animation på After School Art tillsammans med konstnären Kristina Frank. \n  \n 
URL:https://www.gotlandsmuseum.se/event/after-school-art-skapa-fritt-efter-skolan-2/
CATEGORIES:Barnens museum
ATTACH;FMTTYPE=image/jpeg:https://www.gotlandsmuseum.se/wp-content/uploads/2025/08/After-school-art-.jpg
END:VEVENT
BEGIN:VEVENT
DTSTART;TZID=Europe/Stockholm:20251127T143000
DTEND;TZID=Europe/Stockholm:20251127T160000
DTSTAMP:20260423T200432
CREATED:20251118T132729Z
LAST-MODIFIED:20251118T132729Z
UID:10000351-1764253800-1764259200@www.gotlandsmuseum.se
SUMMARY:After School Art – kreativ mötesplats efter skolan
DESCRIPTION:Välkommen till After School Art. En kreativ mötesplats för dig som är ungdom! Här får du möjlighet att utforska olika konstnärliga tekniker: bygg skulpturer\, testa grafiska tekniker\, skapa streetart eller diskutera aktuella utställningar. \nDu kommer och går som du vill. Inga krav\, bara skaparglädje och gemenskap. Vi jobbar med olika material  och du behöver inte ha några förkunskaper. \nTorsdagar kl. 14.30–16.00Kostnad: Gratis – material ingår!Drop-in för skolungdomar (ingen föranmälan krävs). \nHöstens datum:2/10\, 9/10\, 16/10\, 23/106/11\, 20/11\, 27/11 \nTips! Den 20 november blir det green-screen-animation på After School Art tillsammans med konstnären Kristina Frank. \n  \n 
URL:https://www.gotlandsmuseum.se/event/after-school-art-skapa-fritt-efter-skolan-3/
CATEGORIES:Barnens museum
ATTACH;FMTTYPE=image/jpeg:https://www.gotlandsmuseum.se/wp-content/uploads/2025/08/After-school-art-.jpg
END:VEVENT
BEGIN:VEVENT
DTSTART;TZID=Europe/Stockholm:20251129T110000
DTEND;TZID=Europe/Stockholm:20251130T140000
DTSTAMP:20260423T200432
CREATED:20251118T073351Z
LAST-MODIFIED:20251125T074418Z
UID:10000402-1764414000-1764511200@www.gotlandsmuseum.se
SUMMARY:Designa din EPA! EPA-workshop för unga
DESCRIPTION:Hej motor-intresserade ungdom! Har du en EPA\, A-traktor eller moped som du vill smycka och ge en personlig look? Välkommen till vår EPA-designworkshop den 29–30 november. \nTillsammans med en professionell designer skapar du din egen design till fordonet: en dekal eller en enklare motivlackering. Vi står för kostnaden för dekalen (upp till en viss storlek)\, och du får dessutom ditt fordon professionellt fotograferat. \nDet kostar inget att vara med men platserna är begränsade!Anmäl dig till: armin.scholler@gotlandsmuseum.se \nPlats: Wisbygymnasiet / KulturskolanTid: 29–30 november 2025\, kl. 11.00–14.00
URL:https://www.gotlandsmuseum.se/event/designa-din-epa-epa-workshop-for-unga/
CATEGORIES:Barnens museum,Visning
ATTACH;FMTTYPE=image/jpeg:https://www.gotlandsmuseum.se/wp-content/uploads/2025/11/Webb-Inbjudan-FB-2.jpg
END:VEVENT
END:VCALENDAR