BEGIN:VCALENDAR
VERSION:2.0
PRODID:-//Gotlands Museum - ECPv6.15.11//NONSGML v1.0//EN
CALSCALE:GREGORIAN
METHOD:PUBLISH
X-WR-CALNAME:Gotlands Museum
X-ORIGINAL-URL:https://www.gotlandsmuseum.se
X-WR-CALDESC:Händelser för Gotlands Museum
REFRESH-INTERVAL;VALUE=DURATION:PT1H
X-Robots-Tag:noindex
X-PUBLISHED-TTL:PT1H
BEGIN:VTIMEZONE
TZID:Europe/Stockholm
BEGIN:DAYLIGHT
TZOFFSETFROM:+0100
TZOFFSETTO:+0200
TZNAME:CEST
DTSTART:20240331T010000
END:DAYLIGHT
BEGIN:STANDARD
TZOFFSETFROM:+0200
TZOFFSETTO:+0100
TZNAME:CET
DTSTART:20241027T010000
END:STANDARD
BEGIN:DAYLIGHT
TZOFFSETFROM:+0100
TZOFFSETTO:+0200
TZNAME:CEST
DTSTART:20250330T010000
END:DAYLIGHT
BEGIN:STANDARD
TZOFFSETFROM:+0200
TZOFFSETTO:+0100
TZNAME:CET
DTSTART:20251026T010000
END:STANDARD
BEGIN:DAYLIGHT
TZOFFSETFROM:+0100
TZOFFSETTO:+0200
TZNAME:CEST
DTSTART:20260329T010000
END:DAYLIGHT
BEGIN:STANDARD
TZOFFSETFROM:+0200
TZOFFSETTO:+0100
TZNAME:CET
DTSTART:20261025T010000
END:STANDARD
END:VTIMEZONE
BEGIN:VEVENT
DTSTART;TZID=Europe/Stockholm:20250920T100000
DTEND;TZID=Europe/Stockholm:20250920T120000
DTSTAMP:20260423T225750
CREATED:20250917T071550Z
LAST-MODIFIED:20250917T072013Z
UID:10000388-1758362400-1758369600@www.gotlandsmuseum.se
SUMMARY:Workshop på Visby återvinningscentral
DESCRIPTION:Välkommen till Visby återvinningscentral! I ett samarbete mellan Resurscentrum Konst och form\, Teknikförvaltningen och Konstutvecklaren/Gotlands Museum presenteras tre nya skapelser av platsens återvunna material.  \nLördagen den 20 september blir det invigning. Då håller konstnärerna Siri Iversen Ejve\, Knut Stahle och Kristina Frank i workshops för besökande barn och unga med familj. Kom och inspireras av nya sätt att ta hand om material som blir över –RE_KONST_RUERA! \nProgram:\nInvigning klockan 10.00 då konstnärerna presenterar sina arbeten.\nKlockan 11.00 startar workshop med konstnärerna. Barn deltar i målsmans sällskap. \nArrangör\nResurscentrum Konst och form\, Teknikförvaltningen och Konstutvecklaren/Gotlands Museum \n De får uppdraget att skapa konst av skräp 
URL:https://www.gotlandsmuseum.se/event/workshop-pa-visby-atervinningscentral/
CATEGORIES:Barnens museum,Visning
ATTACH;FMTTYPE=image/jpeg:https://www.gotlandsmuseum.se/wp-content/uploads/2025/09/knut_siri_kristina.jpg
END:VEVENT
END:VCALENDAR